BEGIN:VCALENDAR
VERSION:2.0
PRODID:-//TYPO3/NONSGML Calendarize//EN
BEGIN:VEVENT
UID:calendarize-158-jahreshauptversammlung
DTSTAMP:20260421T110626Z
DTSTART:20260306T190000Z
DTEND:20260306T210000Z
SUMMARY:158. Jahreshauptversammlung
DESCRIPTION:\n
X-ALT-DESC;FMTTYPE=text/html:\n
LOCATION:
END:VEVENT
END:VCALENDAR
