BEGIN:VCALENDAR
VERSION:2.0
PRODID:-//TYPO3/NONSGML Calendarize//EN
BEGIN:VEVENT
UID:calendarize-ausschusssitzung-8
DTSTAMP:20260423T085125Z
DTSTART:20260324T180000Z
DTEND:20260324T210000Z
SUMMARY:Ausschusssitzung
DESCRIPTION:\n
X-ALT-DESC;FMTTYPE=text/html:\n
LOCATION:
END:VEVENT
END:VCALENDAR
