BEGIN:VCALENDAR
VERSION:2.0
PRODID:-//TYPO3/NONSGML Calendarize//EN
BEGIN:VEVENT
UID:calendarize-fahrzeugsegnung-ff-rum
DTSTAMP:20260422T205141Z
DTSTART;VALUE=DATE:20260503
DTEND;VALUE=DATE:20260504
SUMMARY:Fahrzeugsegnung FF Rum
DESCRIPTION:\n
X-ALT-DESC;FMTTYPE=text/html:\n
LOCATION:
END:VEVENT
END:VCALENDAR
