BEGIN:VCALENDAR
VERSION:2.0
PRODID:-//TYPO3/NONSGML Calendarize//EN
BEGIN:VEVENT
UID:calendarize-florianifeier-2
DTSTAMP:20260422T210610Z
DTSTART:20260508T180000Z
DTEND:20260508T230000Z
SUMMARY:Florianifeier
DESCRIPTION:\n
X-ALT-DESC;FMTTYPE=text/html:\n
LOCATION:
END:VEVENT
END:VCALENDAR
