BEGIN:VCALENDAR
VERSION:2.0
PRODID:-//TYPO3/NONSGML Calendarize//EN
BEGIN:VEVENT
UID:calendarize-schulung-ad3c0e35a917ce29f5f5abd675cccab2
DTSTAMP:20260421T105823Z
DTSTART:20260312T190000Z
DTEND:20260312T210000Z
SUMMARY:Schulung
DESCRIPTION:Hauptausbildung : Technik Personenrettung - Ausbildung tragbar
 e Leitern (Stationsbetrieb - Altstadt)\nSonderausbildung : ÖFAST\nDrehlei
 terausbildung : DL Aufstellplätze Altersheime\nGrundausbildung : Angriffe
  mit TS Wasserführende Armaturen\n\n
X-ALT-DESC;FMTTYPE=text/html:Hauptausbildung : Technik Personenrettung - A
 usbildung tragbare Leitern (Stationsbetrieb - Altstadt)\nSonderausbildung 
 : ÖFAST\nDrehleiterausbildung : DL Aufstellplätze Altersheime\nGrundausb
 ildung : Angriffe mit TS Wasserführende Armaturen\n\n
LOCATION:
END:VEVENT
END:VCALENDAR
