BEGIN:VCALENDAR
VERSION:2.0
PRODID:-//TYPO3/NONSGML Calendarize//EN
BEGIN:VEVENT
UID:calendarize-vorbereitung-floriani-2
DTSTAMP:20260422T205710Z
DTSTART:20260507T190000Z
DTEND:20260507T210000Z
SUMMARY:Vorbereitung Floriani
DESCRIPTION:\n
X-ALT-DESC;FMTTYPE=text/html:\n
LOCATION:
END:VEVENT
END:VCALENDAR
